BEGIN:VCALENDAR
VERSION:2.0
PRODID:-//Volt Europa//Events//EN
CALSCALE:GREGORIAN
METHOD:PUBLISH
BEGIN:VEVENT
UID:volt-europastammtisch-linz-26-05-1777914000@voltoesterreich.org
DTSTAMP:20260421T100825Z
DTSTART;TZID=Europe/Vienna:20260504T190000
DTEND;TZID=Europe/Vienna:20260504T203000
SUMMARY:Servus Volt! Regelmäßiger Europastammtisch in Linz
DESCRIPTION:Willkommen zu unserem monatlichen EU-Stammtisch in Linz! Wenn D
 u Mitglieder von Volt treffen und mehr über unsere paneuropäische Bewegun
 g erfahren möchtest\, dann komm doch einfach mal vorbei! Wir treffen uns i
 mmer am ersten Montag im Monat (nicht an Feiertagen).
LOCATION:Restaurant "Alte Welt" am Hauptplatz 4 in Linz
URL:https://voltoesterreich.org/veranstaltungen/volt-europastammtisch-linz-
 26-05
END:VEVENT
END:VCALENDAR
