BEGIN:VCALENDAR
VERSION:2.0
PRODID:-//Volt Europa//Events//EN
CALSCALE:GREGORIAN
METHOD:PUBLISH
BEGIN:VEVENT
UID:volt-at-bayerisch-tiroler-europafest-der-europaeischen-akademie-inntal-
 1746795600@voltoesterreich.org
DTSTAMP:20260423T105407Z
DTSTART;TZID=Europe/Vienna:20250509T150000
DTEND;TZID=Europe/Vienna:20250509T200000
SUMMARY:Volt @ Bayerisch-Tiroler Europafest der Europäischen Akademie Innt
 al
DESCRIPTION:Triff Volt Tirol (und andere Volt Chapter) am Europatag beim Eu
 ropafest der Europäischen Akademie Inntal. Wir werden einen Infostand habe
 n und bei einer Podiumsdiskussion zum Thema europäisches Wahlrecht mit dab
 ei sein.
LOCATION:Festung Kufstein\, 6330 Kufstein
URL:https://voltoesterreich.org/veranstaltungen/volt-at-bayerisch-tiroler-e
 uropafest-der-europaeischen-akademie-inntal
END:VEVENT
END:VCALENDAR
