BEGIN:VCALENDAR
VERSION:2.0
PRODID:-//Volt Europa//Events//EN
CALSCALE:GREGORIAN
METHOD:PUBLISH
BEGIN:VEVENT
UID:panel-discussion-is-security-a-european-issue-26-06-11-1781191800@volto
 esterreich.org
DTSTAMP:20260421T100911Z
DTSTART;TZID=Europe/Vienna:20260611T173000
DTEND;TZID=Europe/Vienna:20260611T190000
SUMMARY:Panel discussion mit Damian Böselager\, Christoph Schwarz und ande
 ren: “Is Security a European Issue? Why Defense\, Resilience\, and Democr
 acy Cannot Be National Endeavors”
DESCRIPTION:Im Rahmen der Generalversammlung von Volt Europa in Bratislava 
 im Juni laden wir herzlich zu einem hochkarätigen Panel ein\, das sich mit
  einer der zentralen Fragen unserer Zeit beschäftigt: der Zukunft der euro
 päischen Sicherheit. Unter dem Titel "Is Security a European Issue? Why De
 fense\, Resilience\, and Democracy Cannot Be National Endeavors" diskutiere
 n unter anderem Damian Böselager und AIES Senior Fellow Christoph Schwarz 
 gemeinsam mit weiteren Gästen über die sicherheitspolitischen Herausf
LOCATION:Impact Hub Vienna\, Lindengasse 56/18-19\, 1070 Wien\, Österreich
URL:https://voltoesterreich.org/veranstaltungen/panel-discussion-is-securit
 y-a-european-issue-26-06-11
END:VEVENT
END:VCALENDAR
