BEGIN:VCALENDAR
VERSION:2.0
PRODID:-//Volt Europa//Events//EN
CALSCALE:GREGORIAN
METHOD:PUBLISH
BEGIN:VEVENT
UID:meet-greet-volt-wien-26-03-1772731800@voltoesterreich.org
DTSTAMP:20260423T105407Z
DTSTART;TZID=Europe/Vienna:20260305T183000
DTEND;TZID=Europe/Vienna:20260305T200000
SUMMARY:Meet & Greet mit Volt in Wien
DESCRIPTION:Lerne Volt Österreich persönlich kennen! Bei unserem Meet & G
 reet in Wien tauschen wir uns über das aktuelle politische Geschehen aus\,
  sprechen über die Ideen und Visionen von Volt und schaffen Raum für offe
 ne Gespräche. Eine ideale Gelegenheit zum Vernetzen\, Diskutieren und gege
 nseitigen Kennenlernen. Wir freuen uns auf dich!
LOCATION:das café\, Burggasse 10\, 1070 Wien
URL:https://voltoesterreich.org/veranstaltungen/meet-greet-volt-wien-26-03
END:VEVENT
END:VCALENDAR
