BEGIN:VCALENDAR
VERSION:2.0
PRODID:-//Volt Europa//Events//EN
CALSCALE:GREGORIAN
METHOD:PUBLISH
BEGIN:VEVENT
UID:meet-greet-volt-graz-26-03-01-1772388000@voltoesterreich.org
DTSTAMP:20260423T120848Z
DTSTART;TZID=Europe/Vienna:20260301T190000
DTEND;TZID=Europe/Vienna:20260301T203000
SUMMARY:Meet & Greet mit Volt in Graz
DESCRIPTION:Lerne Volt Österreich persönlich kennen! Bei unserem Meet & G
 reet in Graz tauschen wir uns über das aktuelle politische Geschehen aus\,
  sprechen über die Ideen und Visionen von Volt und schaffen Raum für offe
 ne Gespräche. Eine ideale Gelegenheit zum Vernetzen\, Diskutieren und gege
 nseitigen Kennenlernen. Wir freuen uns auf dich!
LOCATION:Brot & Spiele\, Mariahilfer Str. 17\, 8020 Graz
URL:https://voltoesterreich.org/veranstaltungen/meet-greet-volt-graz-26-03-
 01
END:VEVENT
END:VCALENDAR
