BEGIN:VCALENDAR
VERSION:2.0
PRODID:-//Volt Europa//Events//EN
CALSCALE:GREGORIAN
METHOD:PUBLISH
BEGIN:VEVENT
UID:europubquiz-2-1768406400@voltoesterreich.org
DTSTAMP:20260424T163621Z
DTSTART;TZID=Europe/Vienna:20260114T170000
DTEND;TZID=Europe/Vienna:20260114T200000
SUMMARY:EuroPubQuiz #2
DESCRIPTION:Wie gut kennst du Europa wirklich? 🇪🇺 Unser EuroPubQuiz g
 eht in die zweite Runde\, dieses Mal mit noch mehr Fokus auf die Europäisc
 he Union und Volt 💜 Wir hoffen\, viele von euch wiederzusehen und einen 
 entspannten Abend zu genießen 🍻 In der unteren Bar des Charlie P‘s we
 rdet ihr mit Snacks und Getränken versorgt\, die Gewinner:innen erwarten t
 olle Preise. Also worauf warten? Nehmt eure Freund:innen mit und meldet gle
 ich im Voraus schon eure Teams an 🎯 Wir freuen uns auf einen geselligen\
 , europäisc
LOCATION:Charlie P‘s\, Währinger Straße 3\, Wien
URL:https://voltoesterreich.org/veranstaltungen/europubquiz-2
END:VEVENT
END:VCALENDAR
