BEGIN:VCALENDAR
VERSION:2.0
PRODID:-//Volt Europa//Events//EN
CALSCALE:GREGORIAN
METHOD:PUBLISH
BEGIN:VEVENT
UID:einladung-zum-gemeinsamen-weihnachtsmarktbesuch-in-wien-1765634400@volt
 oesterreich.org
DTSTAMP:20260423T223428Z
DTSTART;TZID=Europe/Vienna:20251213T150000
DTEND;TZID=Europe/Vienna:20251213T170000
SUMMARY:❄️ Gemeinsamer Weihnachtsmarktbesuch in Wien🎄
DESCRIPTION:Abwarten und Tee trinken? Bei der Weltlage keine Option! Trinke
  den Tee oder Punsch lieber mit uns und werde jetzt aktiv\, Dich für ein b
 esseres\, starkes und handlungsfähiges Europa einzusetzen! Egal ob Du uns 
 nur mal kennenlernen\, mitmachen oder über deine Wünsche fürs nächste J
 ahr sprechen möchtest\, alle Interessierten sind willkommen!
LOCATION:Volt-Büro in der Stiftgasse 10\, Wien
URL:https://voltoesterreich.org/veranstaltungen/einladung-zum-gemeinsamen-w
 eihnachtsmarktbesuch-in-wien
END:VEVENT
END:VCALENDAR
