BEGIN:VCALENDAR
VERSION:2.0
PRODID:-//Volt Europa//Events//EN
CALSCALE:GREGORIAN
METHOD:PUBLISH
BEGIN:VEVENT
UID:einladung-zum-gemeinsamen-weihnachtsmarktbesuch-in-salzburg-1765299600@
 voltoesterreich.org
DTSTAMP:20260423T224728Z
DTSTART;TZID=Europe/Vienna:20251209T180000
DTEND;TZID=Europe/Vienna:20251209T190000
SUMMARY:❄️ Gemeinsamer Weihnachtsmarktbesuch in Salzburg🎄
DESCRIPTION:Abwarten und Tee trinken? Bei der Weltlage keine Option! Trinke
  den Tee oder Punsch lieber mit uns und werde jetzt aktiv\, Dich für ein b
 esseres\, starkes und handlungsfähiges Europa einzusetzen! Egal ob Du uns 
 nur mal kennenlernen\, mitmachen oder über deine Wünsche fürs nächste J
 ahr sprechen möchtest\, alle Interessierten sind willkommen!
LOCATION:Brunnen beim Alten Markt\, Salzburg
URL:https://voltoesterreich.org/veranstaltungen/einladung-zum-gemeinsamen-w
 eihnachtsmarktbesuch-in-salzburg
END:VEVENT
END:VCALENDAR
