BEGIN:VCALENDAR
VERSION:2.0
PRODID:-//Volt Europa//Events//EN
CALSCALE:GREGORIAN
METHOD:PUBLISH
BEGIN:VEVENT
UID:einladung-zum-gemeinsamen-weihnachtsmarktbesuch-in-graz-1765116000@volt
 oesterreich.org
DTSTAMP:20260423T224104Z
DTSTART;TZID=Europe/Vienna:20251207T150000
DTEND;TZID=Europe/Vienna:20251207T160000
SUMMARY:❄️ Gemeinsamer Weihnachtsmarktbesuch in Graz🎄
DESCRIPTION:Abwarten und Tee trinken? Bei der Weltlage keine Option! Trinke
  den Tee oder Punsch lieber mit uns und werde jetzt aktiv\, Dich für ein b
 esseres\, starkes und handlungsfähiges Europa einzusetzen! Egal ob Du uns 
 nur mal kennenlernen\, mitmachen oder über deine Wünsche fürs nächste J
 ahr sprechen möchtest\, alle Interessierten sind willkommen
LOCATION:Hauptplatz\, Graz
URL:https://voltoesterreich.org/veranstaltungen/einladung-zum-gemeinsamen-w
 eihnachtsmarktbesuch-in-graz
END:VEVENT
END:VCALENDAR
