BEGIN:VCALENDAR
VERSION:2.0
PRODID:-//Volt Europa//Events//EN
CALSCALE:GREGORIAN
METHOD:PUBLISH
BEGIN:VEVENT
UID:volt-innsbruck-pride-1722078000@voltoesterreich.org
DTSTAMP:20260423T104936Z
DTSTART;TZID=Europe/Vienna:20240727T130000
DTEND;TZID=Europe/Vienna:20240727T180000
SUMMARY:Volt @ Innsbruck Pride
DESCRIPTION:Sei dabei und lasst uns gemeinsam für eine tolerante und offen
 e Gesellschaft auf die Straße gehen. Ab 13:15 Uhr startet die Parade am La
 ndestheater Vorplatz und führt zum Pride Village bei der Olympiaworld Inns
 bruck. Dort könnt ihr uns und viele andere interessante Organisationen bes
 uchen.
LOCATION:Vor dem Landestheater
URL:https://voltoesterreich.org/veranstaltungen/volt-innsbruck-pride
END:VEVENT
END:VCALENDAR
