BEGIN:VCALENDAR
VERSION:2.0
PRODID:-//Volt Europa//Events//EN
CALSCALE:GREGORIAN
METHOD:PUBLISH
BEGIN:VEVENT
UID:volt-get-together-linz-26-05-1777914000@voltoesterreich.org
DTSTAMP:20260423T054351Z
DTSTART;TZID=Europe/Vienna:20260504T190000
DTEND;TZID=Europe/Vienna:20260504T203000
SUMMARY:Servus Volt! EU round table in Linz
DESCRIPTION:Welcome to our monthly EU get-together in Linz! If you'd like t
 o meet Volt members\, and learn more about our pan-European movement\, then
  come along! We always meet on the first Monday of the month (except on pub
 lic holidays).
LOCATION:Restaurant "Alte Welt" at Hauptplatz 4 in Linz
URL:https://voltoesterreich.org/en/events/volt-get-together-linz-26-05
END:VEVENT
END:VCALENDAR
