BEGIN:VCALENDAR
VERSION:2.0
PRODID:-//Volt Europa//Events//EN
CALSCALE:GREGORIAN
METHOD:PUBLISH
BEGIN:VEVENT
UID:volt-at-demo-fuer-die-ukraine-1771947000@voltoesterreich.org
DTSTAMP:20260423T105602Z
DTSTART;TZID=Europe/Vienna:20260224T163000
DTEND;TZID=Europe/Vienna:20260224T180000
SUMMARY:Volt @ Demo für die Ukraine
DESCRIPTION:Demonstriere gemeinsam mit uns für die Ukraine
LOCATION:Mirabellplatz\, Salzburg
URL:https://voltoesterreich.org/veranstaltungen/volt-at-demo-fuer-die-ukrai
 ne
END:VEVENT
END:VCALENDAR
