BEGIN:VCALENDAR
VERSION:2.0
PRODID:-//Volt Europa//Events//EN
CALSCALE:GREGORIAN
METHOD:PUBLISH
BEGIN:VEVENT
UID:meet-greet-volt-vienna-26-03-1772731800@voltoesterreich.org
DTSTAMP:20260423T153613Z
DTSTART;TZID=Europe/Vienna:20260305T183000
DTEND;TZID=Europe/Vienna:20260305T200000
SUMMARY:Meet & Greet with Volt in Vienna
DESCRIPTION:Get to know Volt Austria! At our Meet & Greet in Vienna\, we wi
 ll discuss current political events\, talk about Volt's ideas and visions\,
  and create space for open conversation. It's an ideal opportunity to netwo
 rk\, discuss\, and get to know each other. We look forward to seeing you!
LOCATION:das café\, Burggasse 10\, 1070 Vienna
URL:https://voltoesterreich.org/en/events/meet-greet-volt-vienna-26-03
END:VEVENT
END:VCALENDAR
