BEGIN:VCALENDAR
VERSION:2.0
PRODID:-//Volt Europa//Events//EN
CALSCALE:GREGORIAN
METHOD:PUBLISH
BEGIN:VEVENT
UID:meet-greet-volt-in-graz-26-03-01-1772388000@voltoesterreich.org
DTSTAMP:20260423T104942Z
DTSTART;TZID=Europe/Vienna:20260301T190000
DTEND;TZID=Europe/Vienna:20260301T203000
SUMMARY:Meet & Greet with Volt in Graz
DESCRIPTION:Get to know Volt Austria! At our Meet & Greet in Graz\, we will
  discuss current political events\, talk about Volt's ideas and visions\, a
 nd create space for open conversation. It's an ideal opportunity to network
 \, discuss\, and get to know each other. We look forward to seeing you!
LOCATION:Brot & Spiele\, Mariahilfer Str. 17\, 8020 Graz
URL:https://voltoesterreich.org/en/events/meet-greet-volt-in-graz-26-03-01
END:VEVENT
END:VCALENDAR
