BEGIN:VCALENDAR
VERSION:2.0
PRODID:-//Volt Europa//Events//EN
CALSCALE:GREGORIAN
METHOD:PUBLISH
BEGIN:VEVENT
UID:invitation-to-visit-the-christmas-market-in-wien-together-1765634400@vo
 ltoesterreich.org
DTSTAMP:20260423T235549Z
DTSTART;TZID=Europe/Vienna:20251213T150000
DTEND;TZID=Europe/Vienna:20251213T170000
SUMMARY:❄️ Invitation to visit the Christmas market in Wien together
 
DESCRIPTION:Wait and see? Not an option given the current global situation!
  Come and have a cup of tea or punch with us and take action now to promote
  a better\, stronger and more effective Europe! Whether you just want to ge
 t to know us\, join in or talk about your wishes for next year\, everyone i
 s welcome!
LOCATION:Volt-Büro in der Stiftgasse 10\, Wien
URL:https://voltoesterreich.org/en/events/invitation-to-visit-the-christmas
 -market-in-wien-together
END:VEVENT
END:VCALENDAR
