BEGIN:VCALENDAR
VERSION:2.0
PRODID:-//Volt Europa//Events//EN
CALSCALE:GREGORIAN
METHOD:PUBLISH
BEGIN:VEVENT
UID:invitation-to-visit-the-christmas-market-in-lindau-together-1765040400@
 voltoesterreich.org
DTSTAMP:20260424T073958Z
DTSTART;TZID=Europe/Vienna:20251206T180000
DTEND;TZID=Europe/Vienna:20251206T190000
SUMMARY:❄️ Volt @ Christmas market in Lindau 🎄
DESCRIPTION:Wait and see? Not an option given the current global situation!
  Come and have tea or punch with us and take action now to promote a better
 \, stronger and more effective Europe! Whether you just want to get to know
  us\, join in or talk about your wishes for next year\, everyone is welcome
 !
LOCATION:Mangturm\, Lindau
URL:https://voltoesterreich.org/en/events/invitation-to-visit-the-christmas
 -market-in-lindau-together
END:VEVENT
END:VCALENDAR
