BEGIN:VCALENDAR
VERSION:2.0
PRODID:-//Volt Europa//Events//EN
CALSCALE:GREGORIAN
METHOD:PUBLISH
BEGIN:VEVENT
UID:europe-calling-demo-fuer-ein-vereintes-europa-1746804600@voltoesterreic
 h.org
DTSTAMP:20260423T055357Z
DTSTART;TZID=Europe/Vienna:20250509T173000
DTEND;TZID=Europe/Vienna:20250509T200000
SUMMARY:Europe Calling: Demo für ein vereintes Europa
DESCRIPTION:Europe Calling! Together for Europe In Zeiten von Trump\, Putin
  und Xi Jinping brauchen wir einen starken und handlungsfähigen\, föderal
 en europäischen Staat\, in dem alle zusammenstehen und der auch in stürmi
 schen Zeiten Garant für Demokratie\, Stabilität und Freiheit ist. Raus au
 s der nationalen Vergangenheit\, rein in eine europäische Zukunft! Dafür 
 demonstrieren wir am Europatag - wir brauchen eine EUROPÄISCHE REPUBLIK JE
 TZT: Veto abschaffen Europäische Armee Starke*r EU-Außenminister*in EU-Re
 gie
LOCATION:Dr. Karl Renner Ring 3\,  1010 Wien (vor dem Parlament)
URL:https://voltoesterreich.org/veranstaltungen/europe-calling-demo-fuer-ei
 n-vereintes-europa
END:VEVENT
END:VCALENDAR
